BEGIN:VCALENDAR
VERSION:2.0
PRODID:-//Explorer RV Club - ECPv5.14.2.1//NONSGML v1.0//EN
CALSCALE:GREGORIAN
METHOD:PUBLISH
X-WR-CALNAME:Explorer RV Club
X-ORIGINAL-URL:https://explorer.breezeprojects.ca
X-WR-CALDESC:Events for Explorer RV Club
REFRESH-INTERVAL;VALUE=DURATION:PT1H
X-Robots-Tag:noindex
X-PUBLISHED-TTL:PT1H
BEGIN:VTIMEZONE
TZID:America/Toronto
BEGIN:DAYLIGHT
TZOFFSETFROM:-0500
TZOFFSETTO:-0400
TZNAME:EDT
DTSTART:20230312T070000
END:DAYLIGHT
BEGIN:STANDARD
TZOFFSETFROM:-0400
TZOFFSETTO:-0500
TZNAME:EST
DTSTART:20231105T060000
END:STANDARD
END:VTIMEZONE
BEGIN:VEVENT
DTSTART;TZID=America/Toronto:20230203T110000
DTEND;TZID=America/Toronto:20230205T170000
DTSTAMP:20260421T172314
CREATED:20230120T183209Z
LAST-MODIFIED:20230120T202016Z
UID:103439-1675422000-1675616400@explorer.breezeprojects.ca
SUMMARY:Ottawa RV Expo & Sale
DESCRIPTION:Showcasing a great selection of the latest RVs\, the Ottawa RV Expo and Sale features everything from luxury Class A motorhomes to camper vans\, travel trailers\, as well as the leisure gear and accessories that turn a journey into an adventure. \nFriday    11:00am-8:00pm\nSaturday  10:00am-7:00pm\nSunday    11:00am-5:00pm
URL:https://explorer.breezeprojects.ca/event/ottawa-rv-expo-sale/
LOCATION:EY Centre\, 4899 Uplands Drive\, Ottawa\, Ontario\, K1V 2N6\, Canada
ORGANIZER;CN="Ontario%20RV%20Dealers%20Association%20%28ORVDA%29":MAILTO:lindsay@ontariorvda.ca
END:VEVENT
BEGIN:VEVENT
DTSTART;TZID=America/Toronto:20230209T120000
DTEND;TZID=America/Toronto:20230212T170000
DTSTAMP:20260421T172314
CREATED:20230120T192204Z
LAST-MODIFIED:20230120T195831Z
UID:103446-1675944000-1676221200@explorer.breezeprojects.ca
SUMMARY:Edmonton RV Expo & Sale
DESCRIPTION:Come to the 41st Edmonton RV EXPO & Sale taking place at the Edmonton EXPO Centre on February 9-12\, 2023. \nShow Hours:\nThursday\, February 9     12:00 pm – 9:00 pm\nFriday\, February 10      10:00 am – 9:00 pm\nSaturday\, February 11    10:00 am – 9:00 pm\nSunday\, February 12      10:00 am – 5:00 pm
URL:https://explorer.breezeprojects.ca/event/edmonton-rv-expo-sale/
LOCATION:Edmonton EXPO Centre\, 7515 - 118 Ave NW\, Edmonton\, AB\, T5B 0J2\, Canada
ORGANIZER;CN="Recreation%20Vehicle%20Dealers%20Association%20%28RVDA%29%20Alberta":MAILTO:rvdaofab@gmail.com
GEO:53.5683348;-113.4564218
X-APPLE-STRUCTURED-LOCATION;VALUE=URI;X-ADDRESS=Edmonton EXPO Centre 7515 - 118 Ave NW Edmonton AB T5B 0J2 Canada;X-APPLE-RADIUS=500;X-TITLE=7515 - 118 Ave NW:geo:-113.4564218,53.5683348
END:VEVENT
END:VCALENDAR