BEGIN:VCALENDAR
VERSION:2.0
PRODID:-//Explorer RV Club - ECPv5.14.2.1//NONSGML v1.0//EN
CALSCALE:GREGORIAN
METHOD:PUBLISH
X-WR-CALNAME:Explorer RV Club
X-ORIGINAL-URL:https://explorer.breezeprojects.ca
X-WR-CALDESC:Events for Explorer RV Club
REFRESH-INTERVAL;VALUE=DURATION:PT1H
X-Robots-Tag:noindex
X-PUBLISHED-TTL:PT1H
BEGIN:VTIMEZONE
TZID:America/Toronto
BEGIN:DAYLIGHT
TZOFFSETFROM:-0500
TZOFFSETTO:-0400
TZNAME:EDT
DTSTART:20220313T070000
END:DAYLIGHT
BEGIN:STANDARD
TZOFFSETFROM:-0400
TZOFFSETTO:-0500
TZNAME:EST
DTSTART:20221106T060000
END:STANDARD
END:VTIMEZONE
BEGIN:VEVENT
DTSTART;TZID=America/Toronto:20221027T110000
DTEND;TZID=America/Toronto:20221030T170000
DTSTAMP:20260422T005228
CREATED:20211213T160045Z
LAST-MODIFIED:20211213T160359Z
UID:92655-1666868400-1667149200@explorer.breezeprojects.ca
SUMMARY:Quebec RV Show
DESCRIPTION:This is the real kickoff of the new season in the RV industry. This is the perfect place to discover all the new 2022 models and all the new trends associated with the wonderful world of RV.
URL:https://explorer.breezeprojects.ca/event/quebec-rv-show/
LOCATION:Center de foires Expocité\, 250\, boul. Wilfrid-Hamel\, Quebec\, QC\, G1L 5A7\, Canada
ORGANIZER;CN="Recreation%20Vehicle%20Dealers%20Association%20of%20Quebec%20%28ACVRQ%29":MAILTO:jdupuis@acvrq.com
GEO:46.8266342;-71.2473645
X-APPLE-STRUCTURED-LOCATION;VALUE=URI;X-ADDRESS=Center de foires Expocité 250 boul. Wilfrid-Hamel Quebec QC G1L 5A7 Canada;X-APPLE-RADIUS=500;X-TITLE=250\, boul. Wilfrid-Hamel:geo:-71.2473645,46.8266342
END:VEVENT
END:VCALENDAR