BEGIN:VCALENDAR
VERSION:2.0
PRODID:-//Explorer RV Club - ECPv5.14.2.1//NONSGML v1.0//EN
CALSCALE:GREGORIAN
METHOD:PUBLISH
X-WR-CALNAME:Explorer RV Club
X-ORIGINAL-URL:https://explorer.breezeprojects.ca
X-WR-CALDESC:Events for Explorer RV Club
REFRESH-INTERVAL;VALUE=DURATION:PT1H
X-Robots-Tag:noindex
X-PUBLISHED-TTL:PT1H
BEGIN:VTIMEZONE
TZID:America/Toronto
BEGIN:DAYLIGHT
TZOFFSETFROM:-0500
TZOFFSETTO:-0400
TZNAME:EDT
DTSTART:20220313T070000
END:DAYLIGHT
BEGIN:STANDARD
TZOFFSETFROM:-0400
TZOFFSETTO:-0500
TZNAME:EST
DTSTART:20221106T060000
END:STANDARD
END:VTIMEZONE
BEGIN:VEVENT
DTSTART;VALUE=DATE:20220915
DTEND;VALUE=DATE:20220919
DTSTAMP:20260422T024748
CREATED:20220311T171255Z
LAST-MODIFIED:20220810T181850Z
UID:94440-1663200000-1663545599@explorer.breezeprojects.ca
SUMMARY:2022 Explorer RV Club Rally
DESCRIPTION:Join us in-person at our 2022 Explorer RV Club Rally to connect with other like-minded RV enthusiasts.\nSpaces are limited so reserve your campsite today before it’s too late! Registration is at 1:00pm on September 15th. \n  \n 
URL:https://explorer.breezeprojects.ca/event/2022-rally/
LOCATION:Camping Transit Campground\, 600 Chem. Saint-Roch\, Lévis\, Québec\, G6Y 0W3\, Canada
ORGANIZER;CN="Explorer%20RV%20Club":MAILTO:info@explorer.breezeprojects.ca
GEO:46.8131163;-71.0521027
X-APPLE-STRUCTURED-LOCATION;VALUE=URI;X-ADDRESS=Camping Transit Campground 600 Chem. Saint-Roch Lévis Québec G6Y 0W3 Canada;X-APPLE-RADIUS=500;X-TITLE=600 Chem. Saint-Roch:geo:-71.0521027,46.8131163
END:VEVENT
END:VCALENDAR