BEGIN:VCALENDAR
VERSION:2.0
PRODID:-//Explorer RV Club - ECPv5.14.2.1//NONSGML v1.0//EN
CALSCALE:GREGORIAN
METHOD:PUBLISH
X-WR-CALNAME:Explorer RV Club
X-ORIGINAL-URL:https://explorer.breezeprojects.ca
X-WR-CALDESC:Events for Explorer RV Club
REFRESH-INTERVAL;VALUE=DURATION:PT1H
X-Robots-Tag:noindex
X-PUBLISHED-TTL:PT1H
BEGIN:VTIMEZONE
TZID:America/Toronto
BEGIN:DAYLIGHT
TZOFFSETFROM:-0500
TZOFFSETTO:-0400
TZNAME:EDT
DTSTART:20220313T070000
END:DAYLIGHT
BEGIN:STANDARD
TZOFFSETFROM:-0400
TZOFFSETTO:-0500
TZNAME:EST
DTSTART:20221106T060000
END:STANDARD
END:VTIMEZONE
BEGIN:VEVENT
DTSTART;TZID=America/Toronto:20220303T110000
DTEND;TZID=America/Toronto:20220306T170000
DTSTAMP:20260422T185805
CREATED:20211213T144723Z
LAST-MODIFIED:20211213T144723Z
UID:92646-1646305200-1646586000@explorer.breezeprojects.ca
SUMMARY:Montreal RV Show
DESCRIPTION:It’s the kick-off to the new season in the RV industry. It’s the best place to discover the new 2022 models and trends associated with the wonderful RV world.
URL:https://explorer.breezeprojects.ca/event/montreal-rv-show/
LOCATION:Montreal Convention Centre\, 1001 Place Jean-Paul-Riopelle\, Montreal\, Quebec\, H2Z 1H5\, Canada
ORGANIZER;CN="Recreation%20Vehicle%20Dealers%20Association%20of%20Quebec%20%28ACVRQ%29":MAILTO:jdupuis@acvrq.com
GEO:45.5037432;-73.5610536
X-APPLE-STRUCTURED-LOCATION;VALUE=URI;X-ADDRESS=Montreal Convention Centre 1001 Place Jean-Paul-Riopelle Montreal Quebec H2Z 1H5 Canada;X-APPLE-RADIUS=500;X-TITLE=1001 Place Jean-Paul-Riopelle:geo:-73.5610536,45.5037432
END:VEVENT
BEGIN:VEVENT
DTSTART;TZID=America/Toronto:20220310T120000
DTEND;TZID=America/Toronto:20220313T170000
DTSTAMP:20260422T185805
CREATED:20211213T160944Z
LAST-MODIFIED:20211213T160944Z
UID:92666-1646913600-1647190800@explorer.breezeprojects.ca
SUMMARY:Moncton RV Show & Sale
DESCRIPTION:Adventure awaits at the 20th Edition of the Moncton RV Show & Sale. Explore the latest RV designs IN-PERSON\, take advantage of anniversary pricing\, partake in family-friendly features\, and more!
URL:https://explorer.breezeprojects.ca/event/moncton-rv-show-sale-2/
LOCATION:Moncton Coliseum Complex\, 377 Killam Drive\, Unit 100\, Moncton\, NB\, E1C 3T1\, Canada
ORGANIZER;CN="Master%20Promotions%20Ltd.":MAILTO:ssprague@mpltd.ca
GEO:46.0955202;-64.8292173
X-APPLE-STRUCTURED-LOCATION;VALUE=URI;X-ADDRESS=Moncton Coliseum Complex 377 Killam Drive Unit 100 Moncton NB E1C 3T1 Canada;X-APPLE-RADIUS=500;X-TITLE=377 Killam Drive\, Unit 100:geo:-64.8292173,46.0955202
END:VEVENT
BEGIN:VEVENT
DTSTART;TZID=America/Toronto:20220310T190000
DTEND;TZID=America/Toronto:20220310T200000
DTSTAMP:20260422T185805
CREATED:20220126T155752Z
LAST-MODIFIED:20220126T160247Z
UID:93443-1646938800-1646942400@explorer.breezeprojects.ca
SUMMARY:Fireside Chats: Music Around the Fire with Danny Michel
DESCRIPTION:Grab a warm drink\, get cozy and join Wayfarer Insurance Group and the ORVDA for part two of their virtual Fireside Chats series. \nHave you been to one of Danny Michel’s School Night Mondays shows\, with musical guests like Jim Cuddy and Tom Cochrane? Have you seen his YouTube series “Dan’s Space Van” where he travels the world in a Star Trek themed van meeting inspiring people along the way? Whether you’re a devoted fan or just discovering him\, you don’t want to skip this special musical performance by award-winning Ontario singer-songwriter\, Danny Michel. RSVP now and prepare to become a fan! \nPlus\, when you register for this event you’ll be entered for a chance to win a $1\,000 Campkin’s gift card! \nDon’t forget to register for part three of their Fireside Chats series!
URL:https://explorer.breezeprojects.ca/event/fireside-chats-music-around-the-fire-with-danny-michel/
LOCATION:Ontario
ORGANIZER;CN="Wayfarer%20Insurance%20Group":MAILTO:hello@wayfarerinsurancegroup.com
END:VEVENT
BEGIN:VEVENT
DTSTART;TZID=America/Toronto:20220414T190000
DTEND;TZID=America/Toronto:20220414T200000
DTSTAMP:20260422T185805
CREATED:20220126T155958Z
LAST-MODIFIED:20220126T160036Z
UID:93445-1649962800-1649966400@explorer.breezeprojects.ca
SUMMARY:Fireside Chats: How to Improve Your RV Experience
DESCRIPTION:Grab a warm drink\, get cozy and join Wayfarer Insurance Group and the ORVDA for part three of their virtual Fireside Chats series. \nLooking for new ways to elevate your RV lifestyle? Their special guest speaker from Go RVing Canada has experienced life as a full-time RVer – the good and the bad. Whether you’re new to the world of RVing or you’re a seasoned RVer\, this event will help you find easy\, inexpensive ways to make your experience out on the open road more enjoyable. Plus\, they’ll share stories from their own adventures! \nPlus\, when you register for this event you’ll be entered for a chance to win a $1\,000 Campkin’s gift card!
URL:https://explorer.breezeprojects.ca/event/fireside-chats-how-to-improve-your-rv-experience/
LOCATION:Ontario
ORGANIZER;CN="Wayfarer%20Insurance%20Group":MAILTO:hello@wayfarerinsurancegroup.com
END:VEVENT
BEGIN:VEVENT
DTSTART;TZID=America/Toronto:20220429T090000
DTEND;TZID=America/Toronto:20220501T170000
DTSTAMP:20260422T185805
CREATED:20220311T163010Z
LAST-MODIFIED:20220420T143635Z
UID:94436-1651222800-1651424400@explorer.breezeprojects.ca
SUMMARY:Campkin's RV Centre 49th Annual RV Open House
DESCRIPTION:Campkin’s 49th Grand Annual RV Open House and Sale – BBQ\, Door Prizes\, Games\, RV Part Specials and Kids Fun Zone.
URL:https://explorer.breezeprojects.ca/event/campkins-49th-annual-rv-open-house/2022-04-29/
LOCATION:Campkin’s RV Centre\, 9760 Baldwin St N.\, Whitby\, Ontario\, L0B 1A0\, Canada
ATTACH;FMTTYPE=image/jpeg:https://explorer.breezeprojects.ca/wp-content/uploads/2022/03/ERVC-open-house-1080x1080-1.jpg
ORGANIZER;CN="Campkin%27s%20RV%20Centre":MAILTO:sales@campkins.com
GEO:44.0226337;-78.9693233
X-APPLE-STRUCTURED-LOCATION;VALUE=URI;X-ADDRESS=Campkin’s RV Centre 9760 Baldwin St N. Whitby Ontario L0B 1A0 Canada;X-APPLE-RADIUS=500;X-TITLE=9760 Baldwin St N.:geo:-78.9693233,44.0226337
END:VEVENT
BEGIN:VEVENT
DTSTART;TZID=America/Toronto:20220430T090000
DTEND;TZID=America/Toronto:20220501T160000
DTSTAMP:20260422T185805
CREATED:20220310T152623Z
LAST-MODIFIED:20220311T171923Z
UID:94382-1651309200-1651420800@explorer.breezeprojects.ca
SUMMARY:McPhails of Harriston Spring Open House
DESCRIPTION:McPhail’s of Harriston is an RV dealership serving the greater portion of Southern Ontario\, located just outside of Harriston\, ON. Please join us at our Spring Open House where you will find new and used RVs for sale.
URL:https://explorer.breezeprojects.ca/event/mcphails-of-harriston/
LOCATION:McPhails of Harriston\, 6332 Wellington Rd 109\, Harriston\, Ontario\, N0G 1Z0\, Canada
GEO:43.8886231;-80.8228566
X-APPLE-STRUCTURED-LOCATION;VALUE=URI;X-ADDRESS=McPhails of Harriston 6332 Wellington Rd 109 Harriston Ontario N0G 1Z0 Canada;X-APPLE-RADIUS=500;X-TITLE=6332 Wellington Rd 109:geo:-80.8228566,43.8886231
END:VEVENT
BEGIN:VEVENT
DTSTART;VALUE=DATE:20220915
DTEND;VALUE=DATE:20220919
DTSTAMP:20260422T185805
CREATED:20220311T171255Z
LAST-MODIFIED:20220810T181850Z
UID:94440-1663200000-1663545599@explorer.breezeprojects.ca
SUMMARY:2022 Explorer RV Club Rally
DESCRIPTION:Join us in-person at our 2022 Explorer RV Club Rally to connect with other like-minded RV enthusiasts.\nSpaces are limited so reserve your campsite today before it’s too late! Registration is at 1:00pm on September 15th. \n  \n 
URL:https://explorer.breezeprojects.ca/event/2022-rally/
LOCATION:Camping Transit Campground\, 600 Chem. Saint-Roch\, Lévis\, Québec\, G6Y 0W3\, Canada
ORGANIZER;CN="Explorer%20RV%20Club":MAILTO:info@explorer.breezeprojects.ca
GEO:46.8131163;-71.0521027
X-APPLE-STRUCTURED-LOCATION;VALUE=URI;X-ADDRESS=Camping Transit Campground 600 Chem. Saint-Roch Lévis Québec G6Y 0W3 Canada;X-APPLE-RADIUS=500;X-TITLE=600 Chem. Saint-Roch:geo:-71.0521027,46.8131163
END:VEVENT
BEGIN:VEVENT
DTSTART;TZID=America/Toronto:20221027T110000
DTEND;TZID=America/Toronto:20221030T170000
DTSTAMP:20260422T185805
CREATED:20211213T160045Z
LAST-MODIFIED:20211213T160359Z
UID:92655-1666868400-1667149200@explorer.breezeprojects.ca
SUMMARY:Quebec RV Show
DESCRIPTION:This is the real kickoff of the new season in the RV industry. This is the perfect place to discover all the new 2022 models and all the new trends associated with the wonderful world of RV.
URL:https://explorer.breezeprojects.ca/event/quebec-rv-show/
LOCATION:Center de foires Expocité\, 250\, boul. Wilfrid-Hamel\, Quebec\, QC\, G1L 5A7\, Canada
ORGANIZER;CN="Recreation%20Vehicle%20Dealers%20Association%20of%20Quebec%20%28ACVRQ%29":MAILTO:jdupuis@acvrq.com
GEO:46.8266342;-71.2473645
X-APPLE-STRUCTURED-LOCATION;VALUE=URI;X-ADDRESS=Center de foires Expocité 250 boul. Wilfrid-Hamel Quebec QC G1L 5A7 Canada;X-APPLE-RADIUS=500;X-TITLE=250\, boul. Wilfrid-Hamel:geo:-71.2473645,46.8266342
END:VEVENT
END:VCALENDAR