BEGIN:VCALENDAR
VERSION:2.0
PRODID:-//Explorer RV Club - ECPv5.14.2.1//NONSGML v1.0//EN
CALSCALE:GREGORIAN
METHOD:PUBLISH
X-WR-CALNAME:Explorer RV Club
X-ORIGINAL-URL:https://explorer.breezeprojects.ca
X-WR-CALDESC:Events for Explorer RV Club
REFRESH-INTERVAL;VALUE=DURATION:PT1H
X-Robots-Tag:noindex
X-PUBLISHED-TTL:PT1H
BEGIN:VTIMEZONE
TZID:America/Toronto
BEGIN:DAYLIGHT
TZOFFSETFROM:-0500
TZOFFSETTO:-0400
TZNAME:EDT
DTSTART:20230312T070000
END:DAYLIGHT
BEGIN:STANDARD
TZOFFSETFROM:-0400
TZOFFSETTO:-0500
TZNAME:EST
DTSTART:20231105T060000
END:STANDARD
END:VTIMEZONE
BEGIN:VEVENT
DTSTART;TZID=America/Toronto:20230317T100000
DTEND;TZID=America/Toronto:20230319T170000
DTSTAMP:20260421T172201
CREATED:20230217T213213Z
LAST-MODIFIED:20230217T213213Z
UID:104065-1679047200-1679245200@explorer.breezeprojects.ca
SUMMARY:ORVDA Kitchener RV Show & Sale
DESCRIPTION:Join us at the ORVDA’s Kitchener RV Show & Sale. Showcasing a great selection of the latest RVs\, the Kitchener RV Show and Sale features everything from $250\,000 luxury Class A motorhomes to camper vans\, travel trailers\, as well as the leisure gear and accessories that turn a journey into an adventure.
URL:https://explorer.breezeprojects.ca/event/orvda-kitchener-rv-show-sale/
LOCATION:Kitchener Memorial Auditorium\, 400 East Avenue\, Kitchener\, Ontario\, N2H 1Z6\, Canada
ORGANIZER;CN="Ontario%20RV%20Dealers%20Association%20%28ORVDA%29":MAILTO:lindsay@ontariorvda.ca
END:VEVENT
END:VCALENDAR