BEGIN:VCALENDAR
VERSION:2.0
PRODID:-//Explorer RV Club - ECPv5.14.2.1//NONSGML v1.0//EN
CALSCALE:GREGORIAN
METHOD:PUBLISH
X-WR-CALNAME:Explorer RV Club
X-ORIGINAL-URL:https://explorer.breezeprojects.ca
X-WR-CALDESC:Events for Explorer RV Club
REFRESH-INTERVAL;VALUE=DURATION:PT1H
X-Robots-Tag:noindex
X-PUBLISHED-TTL:PT1H
BEGIN:VTIMEZONE
TZID:America/Toronto
BEGIN:DAYLIGHT
TZOFFSETFROM:-0500
TZOFFSETTO:-0400
TZNAME:EDT
DTSTART:20230312T070000
END:DAYLIGHT
BEGIN:STANDARD
TZOFFSETFROM:-0400
TZOFFSETTO:-0500
TZNAME:EST
DTSTART:20231105T060000
END:STANDARD
END:VTIMEZONE
BEGIN:VEVENT
DTSTART;TZID=America/Toronto:20230302T100000
DTEND;TZID=America/Toronto:20230305T170000
DTSTAMP:20260421T172200
CREATED:20230120T202928Z
LAST-MODIFIED:20230120T210150Z
UID:103453-1677751200-1678035600@explorer.breezeprojects.ca
SUMMARY:The Big RV Show
DESCRIPTION:Come to the 2023 Toronto Spring Camping & RV Show & Sale “The Big One” to take advantage of some of the best deals of the year from the largest RV retailers in Ontario.  \nShow Hours:\nThursday      10:00am – 7:00pm\nFriday        10:00am – 7:00pm\nSaturday      10:00am – 7:00pm\nSunday        10:00am – 5:00pm
URL:https://explorer.breezeprojects.ca/event/the-big-rv-show/
LOCATION:The International Centre\, 6900 Airport Rd\, Mississauga\, ON\, L4V 1E8\, Canada
ORGANIZER;CN="Canadian%20Recreational%20Vehicle%20Association%20%28CRVA%29":MAILTO:shane.devenish@crva.ca
GEO:43.7031062;-79.6366377
X-APPLE-STRUCTURED-LOCATION;VALUE=URI;X-ADDRESS=The International Centre 6900 Airport Rd Mississauga ON L4V 1E8 Canada;X-APPLE-RADIUS=500;X-TITLE=6900 Airport Rd:geo:-79.6366377,43.7031062
END:VEVENT
BEGIN:VEVENT
DTSTART;TZID=America/Toronto:20230302T110000
DTEND;TZID=America/Toronto:20230305T170000
DTSTAMP:20260421T172200
CREATED:20230120T195454Z
LAST-MODIFIED:20230120T195454Z
UID:103448-1677754800-1678035600@explorer.breezeprojects.ca
SUMMARY:Montreal RV Show
DESCRIPTION:Come to the Montreal Convention Centre for the Montreal RV Show on March 2nd\, 2023.  \nShow Hours:\nThursday     11:00am – 9:00pm\nFriday       10:00am – 9:00pm\nSaturday     9:00am  – 9:00pm\nSunday       9:00am  – 5:00pm
URL:https://explorer.breezeprojects.ca/event/montreal-rv-show-2/
LOCATION:Montreal Convention Centre\, 1001 Place Jean-Paul-Riopelle\, Montreal\, Quebec\, H2Z 1H5\, Canada
ORGANIZER;CN="Recreation%20Vehicle%20Dealers%20Association%20of%20Quebec%20%28ACVRQ%29":MAILTO:jdupuis@acvrq.com
GEO:45.5037432;-73.5610536
X-APPLE-STRUCTURED-LOCATION;VALUE=URI;X-ADDRESS=Montreal Convention Centre 1001 Place Jean-Paul-Riopelle Montreal Quebec H2Z 1H5 Canada;X-APPLE-RADIUS=500;X-TITLE=1001 Place Jean-Paul-Riopelle:geo:-73.5610536,45.5037432
END:VEVENT
END:VCALENDAR