BEGIN:VCALENDAR
VERSION:2.0
PRODID:-//Explorer RV Club - ECPv5.14.2.1//NONSGML v1.0//EN
CALSCALE:GREGORIAN
METHOD:PUBLISH
X-WR-CALNAME:Explorer RV Club
X-ORIGINAL-URL:https://explorer.breezeprojects.ca
X-WR-CALDESC:Events for Explorer RV Club
REFRESH-INTERVAL;VALUE=DURATION:PT1H
X-Robots-Tag:noindex
X-PUBLISHED-TTL:PT1H
BEGIN:VTIMEZONE
TZID:America/Toronto
BEGIN:DAYLIGHT
TZOFFSETFROM:-0500
TZOFFSETTO:-0400
TZNAME:EDT
DTSTART:20230312T070000
END:DAYLIGHT
BEGIN:STANDARD
TZOFFSETFROM:-0400
TZOFFSETTO:-0500
TZNAME:EST
DTSTART:20231105T060000
END:STANDARD
END:VTIMEZONE
BEGIN:VEVENT
DTSTART;TZID=America/Toronto:20230126T120000
DTEND;TZID=America/Toronto:20230129T170000
DTSTAMP:20260421T211453
CREATED:20230120T170144Z
LAST-MODIFIED:20230120T170926Z
UID:103422-1674734400-1675011600@explorer.breezeprojects.ca
SUMMARY:Calgary RV Expo & Sale
DESCRIPTION:Come to the 52nd Calgary RV EXPO & Sale at BMO Centre – Stampede Park on January 26 – 29\, 2023.\nShow Hours:\nThursday\, January 26     12:00 pm – 9:00 pm\nFriday\, January 27       10:00 am – 9:00 pm\nSaturday\, January 28     10:00 am – 9:00 pm\nSunday\, January 29       10:00 am – 5:00 pm
URL:https://explorer.breezeprojects.ca/event/calgary-rv-expo-sale/
LOCATION:BMO Centre – Stampede Park\, 1410 Olympic Way SE\, Calgary\, AB\, T2G 2W1\, Canada
ORGANIZER;CN="Recreation%20Vehicle%20Dealers%20Association%20%28RVDA%29%20Alberta":MAILTO:rvdaofab@gmail.com
GEO:51.0359998;-114.0578586
X-APPLE-STRUCTURED-LOCATION;VALUE=URI;X-ADDRESS=BMO Centre – Stampede Park 1410 Olympic Way SE Calgary AB T2G 2W1 Canada;X-APPLE-RADIUS=500;X-TITLE=1410 Olympic Way SE:geo:-114.0578586,51.0359998
END:VEVENT
END:VCALENDAR