BEGIN:VCALENDAR
VERSION:2.0
PRODID:-//Explorer RV Club - ECPv5.14.2.1//NONSGML v1.0//EN
CALSCALE:GREGORIAN
METHOD:PUBLISH
X-WR-CALNAME:Explorer RV Club
X-ORIGINAL-URL:https://explorer.breezeprojects.ca
X-WR-CALDESC:Events for Explorer RV Club
REFRESH-INTERVAL;VALUE=DURATION:PT1H
X-Robots-Tag:noindex
X-PUBLISHED-TTL:PT1H
BEGIN:VTIMEZONE
TZID:America/Toronto
BEGIN:DAYLIGHT
TZOFFSETFROM:-0500
TZOFFSETTO:-0400
TZNAME:EDT
DTSTART:20230312T070000
END:DAYLIGHT
BEGIN:STANDARD
TZOFFSETFROM:-0400
TZOFFSETTO:-0500
TZNAME:EST
DTSTART:20231105T060000
END:STANDARD
END:VTIMEZONE
BEGIN:VEVENT
DTSTART;TZID=America/Toronto:20230120T130000
DTEND;TZID=America/Toronto:20230122T160000
DTSTAMP:20260421T211454
CREATED:20230112T204929Z
LAST-MODIFIED:20230112T204929Z
UID:103192-1674219600-1674403200@explorer.breezeprojects.ca
SUMMARY:Campkin's 3rd Annual Winter Wonderland
DESCRIPTION:Visit Campkin’s RV Centre for their 3rd Annual Winter Wonderland event. The RV show display opens on Friday\, January 20th at 1pm (right after the YouTube Preview Show). Many of the trailers will be plugged in\, slides will be opened (weather permitting) so you can view the trailers you are interested in. \nThere will be a raffle of 3 amazing prize packs for those who come down (1 each day). The raffle tickets will be handed out in the Campkin’s store so you can go inside\, warm up\, and check out the amazing part deals going on as well. \nThere will be trailers available for you to see and the show display open until 7pm Friday\, January 20th\, \nHours:\nFriday\, January 20: 1pm to 7pm\nSaturday\, January 21: 9am to 5pm\nSunday\, January 22: 10am to 4pm
URL:https://explorer.breezeprojects.ca/event/campkins-3rd-annual-winter-wonderland/
LOCATION:Campkin’s RV Centre\, 9760 Baldwin St N.\, Whitby\, Ontario\, L0B 1A0\, Canada
ATTACH;FMTTYPE=image/jpeg:https://explorer.breezeprojects.ca/wp-content/uploads/2023/01/Campkins-RV-Winter-Wonderland-2023.jpg
ORGANIZER;CN="Campkin%27s%20RV%20Centre":MAILTO:sales@campkins.com
GEO:44.0226337;-78.9693233
X-APPLE-STRUCTURED-LOCATION;VALUE=URI;X-ADDRESS=Campkin’s RV Centre 9760 Baldwin St N. Whitby Ontario L0B 1A0 Canada;X-APPLE-RADIUS=500;X-TITLE=9760 Baldwin St N.:geo:-78.9693233,44.0226337
END:VEVENT
END:VCALENDAR